BEGIN:VCALENDAR
VERSION:2.0
PRODID:-//Lew Kopelew Forum - ECPv6.15.18//NONSGML v1.0//EN
CALSCALE:GREGORIAN
METHOD:PUBLISH
X-ORIGINAL-URL:https://kopelew-forum.de
X-WR-CALDESC:Veranstaltungen für Lew Kopelew Forum
REFRESH-INTERVAL;VALUE=DURATION:PT1H
X-Robots-Tag:noindex
X-PUBLISHED-TTL:PT1H
BEGIN:VTIMEZONE
TZID:Europe/Berlin
BEGIN:DAYLIGHT
TZOFFSETFROM:+0100
TZOFFSETTO:+0200
TZNAME:CEST
DTSTART:20240331T010000
END:DAYLIGHT
BEGIN:STANDARD
TZOFFSETFROM:+0200
TZOFFSETTO:+0100
TZNAME:CET
DTSTART:20241027T010000
END:STANDARD
BEGIN:DAYLIGHT
TZOFFSETFROM:+0100
TZOFFSETTO:+0200
TZNAME:CEST
DTSTART:20250330T010000
END:DAYLIGHT
BEGIN:STANDARD
TZOFFSETFROM:+0200
TZOFFSETTO:+0100
TZNAME:CET
DTSTART:20251026T010000
END:STANDARD
BEGIN:DAYLIGHT
TZOFFSETFROM:+0100
TZOFFSETTO:+0200
TZNAME:CEST
DTSTART:20260329T010000
END:DAYLIGHT
BEGIN:STANDARD
TZOFFSETFROM:+0200
TZOFFSETTO:+0100
TZNAME:CET
DTSTART:20261025T010000
END:STANDARD
END:VTIMEZONE
BEGIN:VEVENT
DTSTART;TZID=Europe/Berlin:20251211T180000
DTEND;TZID=Europe/Berlin:20251211T200000
DTSTAMP:20260421T100114
CREATED:20251121T133039Z
LAST-MODIFIED:20260124T145437Z
UID:2335-1765476000-1765483200@kopelew-forum.de
SUMMARY:Ich verwandle mich. Ein Abend in Gedenken an Victoria Amelina und Volodymyr Vakulenko
DESCRIPTION:Ein Abend in Gedenken an Victoria Amelina und Volodymyr Vakulenko\n  \nIm März 2022 geriet der ukrainische Autor Volodymyr Vakulenko in seinem Heimatdorf unter russische Besatzung. Bis zum 21. März hielt Vakulenko in einem Tagebuch seine Beobachtungen und Gedanken fest. Am 24. März wurde er von russischen Soldaten verschleppt\, und sein geschundener Leichnam wurde nach der Befreiung der Region in einem Massengrab in Isjum gefunden. \n  \nBekannt war Vakulenko für die warmen Bilder in seinen Kinderbüchern; mit der Invasion wurde sein Schreiben von Schmerz und Krieg geprägt. Seine Aufzeichnungen stellen sicher\, dass seine Geschichte und die Stimmen ukrainischer Schriftsteller weiterleben. Er gehört zu den über 100 ukrainischen Autoren\, Dichtern\, Verlegern und Übersetzern\, die seit Februar 2022 ums Leben gekommen sind. \n  \nDie Schriftstellerin Victoria Amelina rettete Vakulenkos Aufzeichnungen und veröffentlichte sie posthum. Sie selbst starb am 1. Juli 2023\, dem Geburtstag Vakulenkos\, bei einem russischen Raketenangriff. Beide gelten als wichtige Stimmen der ukrainischen Literatur und des kulturellen Widerstands. Diese Veranstaltung ist dem Andenken an beide gewidmet. Ein Abend mit Poesie\, Prosa und historischen Einblicken würdigt ihr Leben\, ihr Werk und ihren unerschütterlichen Einsatz für die ukrainische Kultur und Identität. \n  \nAm Abend nehmen Natalka Sniadanko\, Schriftstellerin\, sowie Bernt Hahn und Maryna Bilova\, die Lesungen übernehmen\, teil. \n  \nBegrüßung durch Anastasia Koehler (Lew Kopelew Forum) und Franziska Davies (Deutsch-Ukrainische Gesellschaft) \n  \nDiese Veranstaltung wird in Kooperation mit der Deutsch-Ukrainischen Gesellschaft – Für unsere und eure Freiheit e.V. und dem Lew Kopelew Forum durchgeführt.
URL:https://kopelew-forum.de/veranstaltung/ich-verwandle-mich-ein-abend-in-gedenken-an-victoria-amelina-und-volodymyr-vakulenko/
LOCATION:Lew Kopelew Forum e.V.\, Neumarkt 18\, Köln\, 50667
CATEGORIES:Lesung
ATTACH;FMTTYPE=image/jpeg:https://kopelew-forum.de/wp-content/uploads/2026/01/Ich-verwande-mich-hoch.jpg
END:VEVENT
END:VCALENDAR